{
 "currentVersion": 11.3,
 "serviceDescription": "Imagery/SID2008",
 "name": "Imagery/SID2008",
 "description": "",
 "extent": {
  "xmin": 1885000,
  "ymin": 695000,
  "xmax": 2060000,
  "ymax": 835000,
  "spatialReference": {
   "wkid": 103130,
   "latestWkid": 6551
  }
 },
 "initialExtent": {
  "xmin": 1885000,
  "ymin": 695000,
  "xmax": 2060000,
  "ymax": 835000,
  "spatialReference": {
   "wkid": 103130,
   "latestWkid": 6551
  }
 },
 "fullExtent": {
  "xmin": 1885000,
  "ymin": 695000,
  "xmax": 2060000,
  "ymax": 835000,
  "spatialReference": {
   "wkid": 103130,
   "latestWkid": 6551
  }
 },
 "sortableFields": "",
 "bandCount": 3,
 "pixelType": "U8",
 "minValues": [
  27,
  23,
  31
 ],
 "maxValues": [
  255,
  255,
  255
 ],
 "meanValues": [
  140.30675075767,
  137.90737183592,
  131.52284756904
 ],
 "stdvValues": [
  52.757777212498,
  53.28410436746,
  54.982676162329
 ],
 "hasMultidimensions": false,
 "pixelSizeX": 1,
 "pixelSizeY": 1,
 "meanPixelSize": 0.30480060960121924,
 "datasetFormat": "MrSID",
 "uncompressedSize": 73500000000,
 "blockWidth": 1024,
 "blockHeight": 128,
 "compressionType": "Wavelet (MG2)",
 "bandNames": [
  "Band_1",
  "Band_2",
  "Band_3"
 ],
 "allowCopy": true,
 "allowAnalysis": true,
 "itemAccess": false,
 "inspectionCapabilities": "",
 "minPixelSize": 0,
 "maxPixelSize": 0,
 "copyrightText": "",
 "serviceDataType": "esriImageServiceDataTypeRGB",
 "serviceSourceType": "esriImageServiceSourceTypeDataset",
 "objectIdField": "",
 "fields": [],
 "capabilities": "Image,Metadata,Mensuration",
 "defaultMosaicMethod": "Center",
 "allowedMosaicMethods": "",
 "sortField": "",
 "sortValue": null,
 "sortAscending": true,
 "mosaicOperator": "First",
 "defaultCompressionQuality": 75,
 "defaultResamplingMethod": "Bilinear",
 "maxImageHeight": 4100,
 "maxImageWidth": 15000,
 "allowRasterFunction": true,
 "rasterFunctionInfos": [
  {
   "name": "None",
   "description": "",
   "help": ""
  }
 ],
 "rasterTypeInfos": [
  {
   "name": "Raster Dataset",
   "description": "Supports all ArcGIS Raster Datasets",
   "help": ""
  }
 ],
 "mensurationCapabilities": "Basic",
 "hasHistograms": true,
 "hasColormap": false,
 "hasRasterAttributeTable": false,
 "minScale": 0,
 "maxScale": 0,
 "exportTilesAllowed": false,
 "supportsStatistics": false,
 "supportsAdvancedQueries": false,
 "editFieldsInfo": null,
 "ownershipBasedAccessControlForRasters": null,
 "allowComputeTiePoints": false,
 "useStandardizedQueries": true,
 "advancedQueryCapabilities": {
  "useStandardizedQueries": true,
  "supportsStatistics": false,
  "supportsOrderBy": false,
  "supportsDistinct": false,
  "supportsPagination": false
 },
 "spatialReference": {
  "wkid": 103130,
  "latestWkid": 6551
 }
}
