{
 "currentVersion": 11.3,
 "serviceDescription": "Imagery/SID2015",
 "name": "Imagery/SID2015",
 "description": "",
 "extent": {
  "xmin": 1888750,
  "ymin": 696250,
  "xmax": 2057500,
  "ymax": 830000,
  "spatialReference": {
   "wkid": 103130,
   "latestWkid": 6551
  }
 },
 "initialExtent": {
  "xmin": 1888750,
  "ymin": 696250,
  "xmax": 2057500,
  "ymax": 830000,
  "spatialReference": {
   "wkid": 103130,
   "latestWkid": 6551
  }
 },
 "fullExtent": {
  "xmin": 1888750,
  "ymin": 696250,
  "xmax": 2057500,
  "ymax": 830000,
  "spatialReference": {
   "wkid": 103130,
   "latestWkid": 6551
  }
 },
 "sortableFields": "",
 "bandCount": 3,
 "pixelType": "U8",
 "minValues": [
  25,
  39,
  6
 ],
 "maxValues": [
  255,
  255,
  255
 ],
 "meanValues": [
  122.35158817087,
  119.61117196057,
  90.549470609712
 ],
 "stdvValues": [
  55.492242535295,
  55.682239793806,
  66.954069380584
 ],
 "hasMultidimensions": false,
 "pixelSizeX": 0.25,
 "pixelSizeY": 0.25,
 "meanPixelSize": 0.07620015240030481,
 "datasetFormat": "MrSID",
 "uncompressedSize": 1083375000000,
 "blockWidth": 1024,
 "blockHeight": 128,
 "compressionType": "Wavelet (MG3)",
 "bandNames": [
  "Band_1",
  "Band_2",
  "Band_3"
 ],
 "allowCopy": true,
 "allowAnalysis": true,
 "itemAccess": false,
 "inspectionCapabilities": "",
 "minPixelSize": 0,
 "maxPixelSize": 0,
 "copyrightText": "",
 "serviceDataType": "esriImageServiceDataTypeRGB",
 "serviceSourceType": "esriImageServiceSourceTypeDataset",
 "objectIdField": "",
 "fields": [],
 "capabilities": "Image,Metadata,Mensuration",
 "defaultMosaicMethod": "Center",
 "allowedMosaicMethods": "",
 "sortField": "",
 "sortValue": null,
 "sortAscending": true,
 "mosaicOperator": "First",
 "defaultCompressionQuality": 75,
 "defaultResamplingMethod": "Bilinear",
 "maxImageHeight": 4100,
 "maxImageWidth": 15000,
 "allowRasterFunction": true,
 "rasterFunctionInfos": [
  {
   "name": "None",
   "description": "",
   "help": ""
  }
 ],
 "rasterTypeInfos": [
  {
   "name": "Raster Dataset",
   "description": "Supports all ArcGIS Raster Datasets",
   "help": ""
  }
 ],
 "mensurationCapabilities": "Basic",
 "hasHistograms": true,
 "hasColormap": false,
 "hasRasterAttributeTable": false,
 "minScale": 0,
 "maxScale": 0,
 "exportTilesAllowed": false,
 "supportsStatistics": false,
 "supportsAdvancedQueries": false,
 "editFieldsInfo": null,
 "ownershipBasedAccessControlForRasters": null,
 "allowComputeTiePoints": false,
 "useStandardizedQueries": true,
 "advancedQueryCapabilities": {
  "useStandardizedQueries": true,
  "supportsStatistics": false,
  "supportsOrderBy": false,
  "supportsDistinct": false,
  "supportsPagination": false
 },
 "spatialReference": {
  "wkid": 103130,
  "latestWkid": 6551
 }
}
