<?xml version="1.0" encoding="UTF-8" standalone="no"?>
<metadata>
<idinfo>
<citation>
<citeinfo>
<origin>State of Ohio Office of Information Technology, Ohio Geographically Referenced Information Program</origin>
<pubdate>20230627</pubdate>
<title>Licking_2023_rgb_100x.sid</title>
<geoform>raster</geoform>
</citeinfo>
</citation>
<descript>
<abstract>In the Spring of 2023, Licking County obtained new orthoimagery covering the entire county (+/- 687.4 sq. mi). The aerial imagery was collected during leaf-off conditions with a 3-inch pixel resolution. Imagery was collected with the Leica DMC III Airborne Digital Sensor. The orthos are delivered as a countywide dataset, consisting of 1,250' x 1,250' uncompressed 8-bit, 4-band color GeoTIFF files. The file naming convention is as follows: bsxxxxyyyy (Ohio South Zone); Please note that xxxx and yyyy represent the easting and northing coordinates (respectively) in state plane feet. Each GeoTIFF ortho file is approximately 100 megabytes in size. Additional deliverables include countywide color and color infrared MrSID (Multi resolution Seamless Image Database) images (20x and 100x compressions), FGDC compliant metadata per file, tile index provided in ESRI shapefile format. Ownership of the data products resides with Licking County and the state of Ohio. Orthoimagery and ancillary data products produced through this contract are public domain data.</abstract>
<purpose>Licking County, OH has a goal to develop and/or update their existing orthoimagery geospatial dataset for use by city agencies, other levels of government, academia, and the general public, and to provide these datasets for inclusion to OGRIP. OGRIP is a State of Ohio resource for geographic information technology users.</purpose>
</descript>
<timeperd>
<timeinfo>
<mdattim>
<sngdate>
<caldate>20230211</caldate>
</sngdate>
<sngdate>
<caldate>20230212</caldate>
</sngdate>
<sngdate>
<caldate>20230218</caldate>
</sngdate>
<sngdate>
<caldate>20230219</caldate>
</sngdate>
</mdattim>
</timeinfo>
<current>ground condition</current>
</timeperd>
<status>
<progress>Complete</progress>
<update>As needed</update>
</status>
<spdom>
<bounding>
<westbc>-82.785804</westbc>
<eastbc>-82.181047</eastbc>
<northbc>40.278743</northbc>
<southbc>39.911169</southbc>
</bounding>
</spdom>
<keywords>
<theme>
<themekt>None</themekt>
<themekey>Raster</themekey>
<themekey>Orthophoto</themekey>
<themekey>MrSID</themekey>
</theme>
<place>
<placekt>None</placekt>
<placekey>United States</placekey>
<placekey>Ohio</placekey>
<placekey>Licking County</placekey>
</place>
</keywords>
<accconst>This data set is in the public domain, and the recipient may not assert any proprietary rights thereto nor represent it to any one as other than a data set produced by Licking County and the Ohio Statewide Imagery Program.</accconst>
<useconst>This data is for planning purposes only and should not be used for legal or cadastral purposes. This data set is provided "as-is" without warranty of any kind, including, but not limited to, the implied warranties of merchantability and fitness for a particular purpose. User must assume responsibility for determining the suitability of these data for their purposes.</useconst>
<ptcontac>
<cntinfo>
<cntorgp>
<cntorg>OGRIP</cntorg>
</cntorgp>
<cntpos>GIS Manager</cntpos>
<cntaddr>
<addrtype>mailing and physical address</addrtype>
<address>77 S. High St. - Rm 1990</address>
<city>Columbus</city>
<state>OH</state>
<postal>43215</postal>
<country>USA</country>
</cntaddr>
<cntvoice>(614) 466-4747</cntvoice>
<cntfax>(614) 728-5297</cntfax>
</cntinfo>
</ptcontac>
<native>Windows 10 Enterprise; Esri ArcGIS 10.7</native>
</idinfo>
<dataqual>
<logic>This orthophoto imagery follows the boundary of Licking County.</logic>
<complete>The dataset is complete</complete>
<posacc>
<horizpa>
<horizpar>The 7.5cm (3-inch) orthoimagery was produced by Woolpert to meet ASPRS Positional Accuracy Standards for Digital Geospatial Data (2014) for a 11cm RMSEx / RMSEy Horizontal Accuracy Class which equates to Positional Horizontal Accuracy = +/- 27.6cm (+/- 0.9ft) at a 95% confidence level.</horizpar>
</horizpa>
</posacc>
<lineage>
<procstep>
<procdesc>The imagery for this task order was acquired using the DMC-III Airborne Digital Frame Camera. All of the source imagery were initially processed in Leica’s FramePro software for image frame generation, and then final processed using the ImageStation Automatic Traiangulation (ISAT) software package. This package provides the capability to perform digital image processing, aerial triangulation, and image rectification. The imagery was ortho rectified to LiDAR digtial elevation model (DEM) data.</procdesc>
<procdate>20230622</procdate>
<proccont>
<cntinfo>
<cntorgp>
<cntorg>Woolpert</cntorg>
</cntorgp>
<cntpos>Geospatial Services</cntpos>
<cntaddr>
<addrtype>mailing and physical address</addrtype>
<address>4454 Idea Center Blvd.</address>
<city>Dayton</city>
<state>OH</state>
<postal>45430</postal>
<country>USA</country>
</cntaddr>
<cntvoice>(937) 461-5660</cntvoice>
<cntfax>(937) 461-0743</cntfax>
<hours>8:00 a.m. to 5:00 p.m. Eastern Time</hours>
</cntinfo>
</proccont>
</procstep>
<procstep>
<procdesc>The strips of imagery were ortho rectified to existing lidar digital elevation model (DEM) data. The individual rectified strips of ortho rectified imagery were then mosaicked together to form a seamless imagery database over the entire task order area using the OrthoVista software. The final digital orthophoto imagery (DOI) were extracted using OrthoVista. Final orthophoto non-overlapping tiles were produced in GeoTIFF format (with World files) using a cell size of 3-inch and a tile size of 1,250 ft x 1,250 ft.</procdesc>
<procdate>20230622</procdate>
<proccont>
<cntinfo>
<cntorgp>
<cntorg>Woolpert</cntorg>
</cntorgp>
<cntpos>Geospatial Services</cntpos>
<cntaddr>
<addrtype>mailing and physical address</addrtype>
<address>4454 Idea Center Blvd.</address>
<city>Dayton</city>
<state>OH</state>
<postal>45430</postal>
<country>USA</country>
</cntaddr>
<cntvoice>(937) 461-5660</cntvoice>
<hours>8:00 a.m. to 5:00 p.m. Eastern Time</hours>
</cntinfo>
</proccont>
</procstep>
<procstep>
<procdesc>In addition to the 3-inch pixel GeoTIFF data set, Woolpert provided the MrSID (Multi resolution Seamless Image Database) imagery. For this task order, orthoimage tiles are combined and compressed into Countywide GEN3 MrSID mosaics (20x and 100x compressions; RGB and CIR) in MrSID image format.</procdesc>
<procdate>20230622</procdate>
<proccont>
<cntinfo>
<cntorgp>
<cntorg>Woolpert</cntorg>
</cntorgp>
<cntpos>Geospatial Services</cntpos>
<cntaddr>
<addrtype>mailing and physical address</addrtype>
<address>4454 Idea Center Blvd.</address>
<city>Dayton</city>
<state>OH</state>
<postal>45430</postal>
<country>USA</country>
</cntaddr>
<cntvoice>(937) 461-5660</cntvoice>
<hours>8:00 a.m. to 5:00 p.m. Eastern Time</hours>
</cntinfo>
</proccont>
</procstep>
</lineage>
</dataqual>
<spdoinfo>
<direct>Raster</direct>
<rastinfo>
<rasttype>Pixel</rasttype>
<rowcount>535000</rowcount>
<colcount>675000</colcount>
</rastinfo>
</spdoinfo>
<spref>
<horizsys>
<planar>
<mapproj>
<mapprojn>NAD 1983 HARN StatePlane Ohio South FIPS 3402 Feet</mapprojn>
<lambertc>
<stdparll>40.03333333333333</stdparll>
<stdparll>38.73333333333333</stdparll>
<longcm>-82.5</longcm>
<latprjo>38.0</latprjo>
<feast>1968500.0</feast>
<fnorth>0.0</fnorth>
</lambertc>
</mapproj>
<planci>
<plance>row and column</plance>
<coordrep>
<absres>0.25</absres>
<ordres>0.25</ordres>
</coordrep>
<plandu>foot_us</plandu>
</planci>
</planar>
<geodetic>
<horizdn>D North American 1983 HARN</horizdn>
<ellips>GRS 1980</ellips>
<semiaxis>6378137.0</semiaxis>
<denflat>298.257222101</denflat>
</geodetic>
</horizsys>
</spref>
<distinfo>
<distrib>
<cntinfo>
<cntorgp>
<cntorg>OGRIP</cntorg>
</cntorgp>
<cntpos>GIS Manager</cntpos>
<cntaddr>
<addrtype>mailing and physical address</addrtype>
<address>77 S. High St. - Rm 1990</address>
<city>Columbus</city>
<state>OH</state>
<postal>43215</postal>
<country>USA</country>
</cntaddr>
<cntvoice>(614) 466-4747</cntvoice>
<cntfax>(614) 728-5297</cntfax>
</cntinfo>
</distrib>
<resdesc>Downloadable Data</resdesc>
<distliab>The information contained in these data is dynamic and may change over time. The data are not better than the original sources from which they were derived. It is the responsibility of the data user to use the data appropriately and within the limitations of the data for which it was requested and prepared, in general, and these data in particular. The related graphics are intended to aid the data user in acquiring relevant data. It is not appropriate to use the related graphics as data. Woolpert gives no warranty, expressed or implied, as to the accuracy, reliability, or completeness of these data. It is strongly recommended that these data are directly acquired from a Woolpert server, and not indirectly through other sources which may have changed the data in some way. Although these data have been processed successfully upon Woolpert’s computer system, no warranty, expressed or implied, is made regarding the utility of the data on another system, or for general or scientific purposes; nor shall the act of distribution constitute any such warranty. This disclaimer applies both to individual use of the data and aggregate use with other data.</distliab>
<stdorder>
<digform>
<digtinfo>
<formname>SID</formname>
<transize>10331.8727674</transize>
</digtinfo>
<digtopt>
<onlinopt>
<computer>
<networka>
<networkr>http://ogrip.oit.ohio.gov/ServicesData/StatewideImagery/tabid/86/Default.aspx</networkr>
</networka>
</computer>
</onlinopt>
</digtopt>
</digform>
<fees>None</fees>
</stdorder>
</distinfo>
<metainfo>
<metd>20230622</metd>
<metc>
<cntinfo>
<cntorgp>
<cntorg>OGRIP</cntorg>
</cntorgp>
<cntpos>GIS Manager</cntpos>
<cntaddr>
<addrtype>mailing and physical address</addrtype>
<address>77 S. High St. - Rm 1990</address>
<city>Columbus</city>
<state>OH</state>
<postal>43215</postal>
<country>USA</country>
</cntaddr>
<cntvoice>(614) 466-4747</cntvoice>
<cntfax>(614) 728-5297</cntfax>
</cntinfo>
</metc>
<metstdn>FGDC Content Standards for Digital Geospatial Metadata</metstdn>
<metstdv>FGDC-STD-001-1998</metstdv>
<mettc>local time</mettc>
</metainfo>
<dataIdInfo>
<idAbs/>
<idPurp>2023 Imagery</idPurp>
<idCredit/>
<resConst>
<Consts>
<useLimit/>
</Consts>
</resConst>
<idCitation>
<resTitle>SID_2023</resTitle>
</idCitation>
</dataIdInfo>
</metadata>
