View In:
ArcGIS JavaScript
ArcGIS Online Map Viewer
ArcGIS Earth
Service Description: Imagery/SID2015
Name: Imagery/SID2015
Description:
Single Fused Map Cache: false
Extent:
XMin: 1888750.0
YMin: 696250.0
XMax: 2057500.0
YMax: 830000.0
Spatial Reference: 103130
(6551)
LatestVCSWkid(0)
Initial Extent:
XMin: 1888750.0
YMin: 696250.0
XMax: 2057500.0
YMax: 830000.0
Spatial Reference: 103130
(6551)
LatestVCSWkid(0)
Full Extent:
XMin: 1888750.0
YMin: 696250.0
XMax: 2057500.0
YMax: 830000.0
Spatial Reference: 103130
(6551)
LatestVCSWkid(0)
Pixel Size X: 0.25
Pixel Size Y: 0.25
Band Count: 3
Pixel Type: U8
RasterFunction Infos: {"rasterFunctionInfos": [{
"name": "None",
"description": "",
"help": ""
}]}
Mensuration Capabilities: Basic
Inspection Capabilities:
Has Histograms: true
Has Colormap: false
Has Multi Dimensions : false
Rendering Rule:
Min Scale: 0
Max Scale: 0
Copyright Text:
Service Data Type: esriImageServiceDataTypeRGB
Min Values: 25, 39, 6
Max Values: 255, 255, 255
Mean Values: 122.35158817087, 119.61117196057, 90.549470609712
Standard Deviation Values: 55.492242535295, 55.682239793806, 66.954069380584
Object ID Field:
Fields:
None
Default Mosaic Method: Center
Allowed Mosaic Methods:
SortField:
SortValue: null
Mosaic Operator: First
Default Compression Quality: 75
Default Resampling Method: Bilinear
Max Record Count: null
Max Image Height: 4100
Max Image Width: 15000
Max Download Image Count: null
Max Mosaic Image Count: null
Allow Raster Function: true
Allow Copy: true
Allow Analysis: true
Allow Compute TiePoints: false
Supports Statistics: false
Supports Advanced Queries: false
Use StandardizedQueries: true
Raster Type Infos:
Name: Raster Dataset
Description: Supports all ArcGIS Raster Datasets
Help:
Has Raster Attribute Table: false
Edit Fields Info: null
Ownership Based AccessControl For Rasters: null
Child Resources:
Info
Histograms
Statistics
Key Properties
Legend
Raster Function Infos
Supported Operations:
Export Image
Identify
Measure
Compute Histograms
Compute Statistics Histograms
Get Samples
Compute Class Statistics
Query Boundary
Compute Pixel Location
Compute Angles
Validate
Project